BEGIN:VCALENDAR
VERSION:2.0
PRODID:-//BData - ECPv6.15.20//NONSGML v1.0//EN
CALSCALE:GREGORIAN
METHOD:PUBLISH
X-WR-CALNAME:BData
X-ORIGINAL-URL:https://bdatainc.com
X-WR-CALDESC:Events for BData
REFRESH-INTERVAL;VALUE=DURATION:PT1H
X-Robots-Tag:noindex
X-PUBLISHED-TTL:PT1H
BEGIN:VTIMEZONE
TZID:America/Chicago
BEGIN:DAYLIGHT
TZOFFSETFROM:-0600
TZOFFSETTO:-0500
TZNAME:CDT
DTSTART:20240310T080000
END:DAYLIGHT
BEGIN:STANDARD
TZOFFSETFROM:-0500
TZOFFSETTO:-0600
TZNAME:CST
DTSTART:20241103T070000
END:STANDARD
BEGIN:DAYLIGHT
TZOFFSETFROM:-0600
TZOFFSETTO:-0500
TZNAME:CDT
DTSTART:20250309T080000
END:DAYLIGHT
BEGIN:STANDARD
TZOFFSETFROM:-0500
TZOFFSETTO:-0600
TZNAME:CST
DTSTART:20251102T070000
END:STANDARD
BEGIN:DAYLIGHT
TZOFFSETFROM:-0600
TZOFFSETTO:-0500
TZNAME:CDT
DTSTART:20260308T080000
END:DAYLIGHT
BEGIN:STANDARD
TZOFFSETFROM:-0500
TZOFFSETTO:-0600
TZNAME:CST
DTSTART:20261101T070000
END:STANDARD
END:VTIMEZONE
BEGIN:VEVENT
DTSTART;VALUE=DATE:20250911
DTEND;VALUE=DATE:20250914
DTSTAMP:20260420T204205
CREATED:20260314T112329Z
LAST-MODIFIED:20260314T112329Z
UID:917-1757548800-1757807999@bdatainc.com
SUMMARY:2025 Burn Surgeon Forum
DESCRIPTION:BData and Dr. Sam Mandell presented at the Burn Surgeon Forum.
URL:https://bdatainc.com/event/2025-burn-surgeon-forum/
LOCATION:HI
END:VEVENT
BEGIN:VEVENT
DTSTART;VALUE=DATE:20250618
DTEND;VALUE=DATE:20250621
DTSTAMP:20260420T204205
CREATED:20260313T213122Z
LAST-MODIFIED:20260313T213122Z
UID:907-1750204800-1750463999@bdatainc.com
SUMMARY:2025 Western Region Burn Conference
DESCRIPTION:BData and ABA present at the Western Burn Region Conference.
URL:https://bdatainc.com/event/2025-western-region-burn-conference/
LOCATION:Seattle Convention Center\, Seattle\, WA\, United States
END:VEVENT
END:VCALENDAR