BEGIN:VCALENDAR
VERSION:2.0
PRODID:-//BData - ECPv6.15.20//NONSGML v1.0//EN
CALSCALE:GREGORIAN
METHOD:PUBLISH
X-WR-CALNAME:BData
X-ORIGINAL-URL:https://bdatainc.com
X-WR-CALDESC:Events for BData
REFRESH-INTERVAL;VALUE=DURATION:PT1H
X-Robots-Tag:noindex
X-PUBLISHED-TTL:PT1H
BEGIN:VTIMEZONE
TZID:America/Chicago
BEGIN:DAYLIGHT
TZOFFSETFROM:-0600
TZOFFSETTO:-0500
TZNAME:CDT
DTSTART:20250309T080000
END:DAYLIGHT
BEGIN:STANDARD
TZOFFSETFROM:-0500
TZOFFSETTO:-0600
TZNAME:CST
DTSTART:20251102T070000
END:STANDARD
BEGIN:DAYLIGHT
TZOFFSETFROM:-0600
TZOFFSETTO:-0500
TZNAME:CDT
DTSTART:20260308T080000
END:DAYLIGHT
BEGIN:STANDARD
TZOFFSETFROM:-0500
TZOFFSETTO:-0600
TZNAME:CST
DTSTART:20261101T070000
END:STANDARD
BEGIN:DAYLIGHT
TZOFFSETFROM:-0600
TZOFFSETTO:-0500
TZNAME:CDT
DTSTART:20270314T080000
END:DAYLIGHT
BEGIN:STANDARD
TZOFFSETFROM:-0500
TZOFFSETTO:-0600
TZNAME:CST
DTSTART:20271107T070000
END:STANDARD
BEGIN:DAYLIGHT
TZOFFSETFROM:-0600
TZOFFSETTO:-0500
TZNAME:CDT
DTSTART:20280312T080000
END:DAYLIGHT
BEGIN:STANDARD
TZOFFSETFROM:-0500
TZOFFSETTO:-0600
TZNAME:CST
DTSTART:20281105T070000
END:STANDARD
END:VTIMEZONE
BEGIN:VEVENT
DTSTART;VALUE=DATE:20261113
DTEND;VALUE=DATE:20261115
DTSTAMP:20260420T142309
CREATED:20260317T115716Z
LAST-MODIFIED:20260317T115716Z
UID:1063-1794528000-1794700799@bdatainc.com
SUMMARY:2026 Northeast Region Burn Conference
DESCRIPTION:
URL:https://bdatainc.com/event/2026-northeast-region-burn-conference/
LOCATION:Boston\, MA
END:VEVENT
BEGIN:VEVENT
DTSTART;VALUE=DATE:20270123
DTEND;VALUE=DATE:20270129
DTSTAMP:20260420T142309
CREATED:20260319T105542Z
LAST-MODIFIED:20260319T105542Z
UID:1192-1800662400-1801180799@bdatainc.com
SUMMARY:2027 Boswick Burn & Wound Symposium
DESCRIPTION:
URL:https://bdatainc.com/event/2027-boswick-burn-wound-symposium/
LOCATION:Wailea Beach Resort\, Maui\, HI\, United States
END:VEVENT
END:VCALENDAR