BEGIN:VCALENDAR
VERSION:2.0
PRODID:-//BData - ECPv6.15.20//NONSGML v1.0//EN
CALSCALE:GREGORIAN
METHOD:PUBLISH
X-WR-CALNAME:BData
X-ORIGINAL-URL:https://bdatainc.com
X-WR-CALDESC:Events for BData
REFRESH-INTERVAL;VALUE=DURATION:PT1H
X-Robots-Tag:noindex
X-PUBLISHED-TTL:PT1H
BEGIN:VTIMEZONE
TZID:America/Chicago
BEGIN:DAYLIGHT
TZOFFSETFROM:-0600
TZOFFSETTO:-0500
TZNAME:CDT
DTSTART:20240310T080000
END:DAYLIGHT
BEGIN:STANDARD
TZOFFSETFROM:-0500
TZOFFSETTO:-0600
TZNAME:CST
DTSTART:20241103T070000
END:STANDARD
BEGIN:DAYLIGHT
TZOFFSETFROM:-0600
TZOFFSETTO:-0500
TZNAME:CDT
DTSTART:20250309T080000
END:DAYLIGHT
BEGIN:STANDARD
TZOFFSETFROM:-0500
TZOFFSETTO:-0600
TZNAME:CST
DTSTART:20251102T070000
END:STANDARD
BEGIN:DAYLIGHT
TZOFFSETFROM:-0600
TZOFFSETTO:-0500
TZNAME:CDT
DTSTART:20260308T080000
END:DAYLIGHT
BEGIN:STANDARD
TZOFFSETFROM:-0500
TZOFFSETTO:-0600
TZNAME:CST
DTSTART:20261101T070000
END:STANDARD
END:VTIMEZONE
BEGIN:VEVENT
DTSTART;VALUE=DATE:20251030
DTEND;VALUE=DATE:20251102
DTSTAMP:20260420T172258
CREATED:20260314T112653Z
LAST-MODIFIED:20260314T112653Z
UID:921-1761782400-1762041599@bdatainc.com
SUMMARY:2025 Southern Region Burn Conference
DESCRIPTION: BData supports numerous partners in preparing and presenting data from the BCQP at the Southern Burn Conference.
URL:https://bdatainc.com/event/2025-southern-region-burn-conference/
LOCATION:Charleston Marriot Hotel\, Charleston\, SC\, United States
END:VEVENT
BEGIN:VEVENT
DTSTART;VALUE=DATE:20251121
DTEND;VALUE=DATE:20251123
DTSTAMP:20260420T172258
CREATED:20260313T200859Z
LAST-MODIFIED:20260313T212836Z
UID:903-1763683200-1763855999@bdatainc.com
SUMMARY:2025 Northeast Region Burn Conference
DESCRIPTION:BData and physician partners presented at the Northeast Burn Conference.
URL:https://bdatainc.com/event/burn-surgeon-forum/
LOCATION:HI
END:VEVENT
END:VCALENDAR