BEGIN:VCALENDAR
VERSION:2.0
PRODID:-//BData - ECPv6.15.20//NONSGML v1.0//EN
CALSCALE:GREGORIAN
METHOD:PUBLISH
X-WR-CALNAME:BData
X-ORIGINAL-URL:https://bdatainc.com
X-WR-CALDESC:Events for BData
REFRESH-INTERVAL;VALUE=DURATION:PT1H
X-Robots-Tag:noindex
X-PUBLISHED-TTL:PT1H
BEGIN:VTIMEZONE
TZID:America/Chicago
BEGIN:DAYLIGHT
TZOFFSETFROM:-0600
TZOFFSETTO:-0500
TZNAME:CDT
DTSTART:20250309T080000
END:DAYLIGHT
BEGIN:STANDARD
TZOFFSETFROM:-0500
TZOFFSETTO:-0600
TZNAME:CST
DTSTART:20251102T070000
END:STANDARD
BEGIN:DAYLIGHT
TZOFFSETFROM:-0600
TZOFFSETTO:-0500
TZNAME:CDT
DTSTART:20260308T080000
END:DAYLIGHT
BEGIN:STANDARD
TZOFFSETFROM:-0500
TZOFFSETTO:-0600
TZNAME:CST
DTSTART:20261101T070000
END:STANDARD
BEGIN:DAYLIGHT
TZOFFSETFROM:-0600
TZOFFSETTO:-0500
TZNAME:CDT
DTSTART:20270314T080000
END:DAYLIGHT
BEGIN:STANDARD
TZOFFSETFROM:-0500
TZOFFSETTO:-0600
TZNAME:CST
DTSTART:20271107T070000
END:STANDARD
END:VTIMEZONE
BEGIN:VEVENT
DTSTART;VALUE=DATE:20261001
DTEND;VALUE=DATE:20261004
DTSTAMP:20260420T170201
CREATED:20260314T114458Z
LAST-MODIFIED:20260314T114950Z
UID:942-1790812800-1791071999@bdatainc.com
SUMMARY:2026 CBA Annual Burn Conference
DESCRIPTION:Join like-minded and passionate health practitioners from across the country for the 11th Annual CBA Conference.
URL:https://bdatainc.com/event/2026-cba-annual-conference/
LOCATION:Ottawa Marriott Hotel\, Ottawa\, Ontario\, Canada
END:VEVENT
BEGIN:VEVENT
DTSTART;VALUE=DATE:20261024
DTEND;VALUE=DATE:20261026
DTSTAMP:20260420T170201
CREATED:20260317T115624Z
LAST-MODIFIED:20260319T123435Z
UID:1057-1792800000-1792972799@bdatainc.com
SUMMARY:2026 Midwest Region Burn Conference
DESCRIPTION:
URL:https://bdatainc.com/event/2026-midwest-region-burn-conference/
LOCATION:Columbus\, OH
END:VEVENT
END:VCALENDAR